BEGIN:VCALENDAR
VERSION:2.0
PRODID:-//Lothian Centre for Inclusive Living (LCIL) - ECPv6.15.18//NONSGML v1.0//EN
CALSCALE:GREGORIAN
METHOD:PUBLISH
X-ORIGINAL-URL:https://www.lothiancil.org.uk
X-WR-CALDESC:Events for Lothian Centre for Inclusive Living (LCIL)
REFRESH-INTERVAL;VALUE=DURATION:PT1H
X-Robots-Tag:noindex
X-PUBLISHED-TTL:PT1H
BEGIN:VTIMEZONE
TZID:Europe/London
BEGIN:DAYLIGHT
TZOFFSETFROM:+0000
TZOFFSETTO:+0100
TZNAME:BST
DTSTART:20220327T010000
END:DAYLIGHT
BEGIN:STANDARD
TZOFFSETFROM:+0100
TZOFFSETTO:+0000
TZNAME:GMT
DTSTART:20221030T010000
END:STANDARD
BEGIN:DAYLIGHT
TZOFFSETFROM:+0000
TZOFFSETTO:+0100
TZNAME:BST
DTSTART:20230326T010000
END:DAYLIGHT
BEGIN:STANDARD
TZOFFSETFROM:+0100
TZOFFSETTO:+0000
TZNAME:GMT
DTSTART:20231029T010000
END:STANDARD
BEGIN:DAYLIGHT
TZOFFSETFROM:+0000
TZOFFSETTO:+0100
TZNAME:BST
DTSTART:20240331T010000
END:DAYLIGHT
BEGIN:STANDARD
TZOFFSETFROM:+0100
TZOFFSETTO:+0000
TZNAME:GMT
DTSTART:20241027T010000
END:STANDARD
BEGIN:DAYLIGHT
TZOFFSETFROM:+0000
TZOFFSETTO:+0100
TZNAME:BST
DTSTART:20250330T010000
END:DAYLIGHT
BEGIN:STANDARD
TZOFFSETFROM:+0100
TZOFFSETTO:+0000
TZNAME:GMT
DTSTART:20251026T010000
END:STANDARD
BEGIN:DAYLIGHT
TZOFFSETFROM:+0000
TZOFFSETTO:+0100
TZNAME:BST
DTSTART:20260329T010000
END:DAYLIGHT
BEGIN:STANDARD
TZOFFSETFROM:+0100
TZOFFSETTO:+0000
TZNAME:GMT
DTSTART:20261025T010000
END:STANDARD
END:VTIMEZONE
BEGIN:VEVENT
DTSTART;TZID=Europe/London:20250429T094500
DTEND;TZID=Europe/London:20250429T151500
DTSTAMP:20260419T150549
CREATED:20250418T095243Z
LAST-MODIFIED:20250418T103856Z
UID:29767-1745919900-1745939700@www.lothiancil.org.uk
SUMMARY:Epilepsy Awareness Training
DESCRIPTION:This training is to support PAs and Carers who are employed by people who receive direct payment from CEC or work within CEC. (City of Edinburgb Council) \n\nFor more info\, please email:  ILS@lothiancil.org.uk or elizabethtaylor@actiongroup.org.uk (Trainer) \nThis training is brought to you by The Action Group in partnership with LCiL – supporting PAs and Carers.
URL:https://www.lothiancil.org.uk/event/epilepsy-awareness-training/
LOCATION:Online via MS Teams
CATEGORIES:Carers,Online,PA Employer,Parent Carers,Workshop
ORGANIZER;CN="Lothian Centre for Inclusive Living (LCiL)":MAILTO:admin@lothiancil.org.uk
END:VEVENT
BEGIN:VEVENT
DTSTART;TZID=Europe/London:20250227T130000
DTEND;TZID=Europe/London:20250227T150000
DTSTAMP:20260419T150549
CREATED:20250214T152516Z
LAST-MODIFIED:20250214T160316Z
UID:29383-1740661200-1740668400@www.lothiancil.org.uk
SUMMARY:Cost of Living Workshop - Understanding Your Spending Habits: The Pyschology of Spending
DESCRIPTION:Struggling to keep track of your spending? \nJoin the disability Advice and Information team for a Cost of Living workshop where they’ll explore the emotions and influences behind the financial choices we make. \nLearn practical tips to take control of your budget and spend with confidence! \nBook your spot by emailing: DAIS@lothiancil.org.uk \nThis event is online via MS Teams (we’ll send a link to join after you sign up)
URL:https://www.lothiancil.org.uk/event/understanding-spending/
LOCATION:Online via MS Teams
CATEGORIES:Disabled People,Older People,Online,People with Long Term Conditions,Workshop
ORGANIZER;CN="Disability Advice and Information Service (DAIS)":MAILTO:DAIS@lothiancil.org.uk
END:VEVENT
BEGIN:VEVENT
DTSTART;TZID=Europe/London:20230220T140000
DTEND;TZID=Europe/London:20230220T150000
DTSTAMP:20260419T150549
CREATED:20230214T153704Z
LAST-MODIFIED:20230214T171044Z
UID:25837-1676901600-1676905200@www.lothiancil.org.uk
SUMMARY:Adult Disability Payment Information Online Session [MS Teams]
DESCRIPTION:Event\nAdult Disability Payment (ADP) launched throughout Scotland in August 2022. Grapevine Disability Information is pleased to announce an information session looking at the new Adult Disability Payment in Scotland. \n  \nYou will learn how to apply for this new benefit and how existing awards for Personal Independence Payments will be transferred over to ADP during this one hour session. \n  \nRegistration\nThere are a limited number of spaces for this event. Book your place here.
URL:https://www.lothiancil.org.uk/event/adult-disability-payment-information-online-session-ms-teams/
LOCATION:Online via MS Teams
ORGANIZER;CN="Disability Advice and Information Service (DAIS)":MAILTO:DAIS@lothiancil.org.uk
END:VEVENT
END:VCALENDAR