BEGIN:VCALENDAR
VERSION:2.0
PRODID:-//Lothian Centre for Inclusive Living (LCIL) - ECPv6.15.18//NONSGML v1.0//EN
CALSCALE:GREGORIAN
METHOD:PUBLISH
X-ORIGINAL-URL:https://www.lothiancil.org.uk
X-WR-CALDESC:Events for Lothian Centre for Inclusive Living (LCIL)
REFRESH-INTERVAL;VALUE=DURATION:PT1H
X-Robots-Tag:noindex
X-PUBLISHED-TTL:PT1H
BEGIN:VTIMEZONE
TZID:Europe/London
BEGIN:DAYLIGHT
TZOFFSETFROM:+0000
TZOFFSETTO:+0100
TZNAME:BST
DTSTART:20240331T010000
END:DAYLIGHT
BEGIN:STANDARD
TZOFFSETFROM:+0100
TZOFFSETTO:+0000
TZNAME:GMT
DTSTART:20241027T010000
END:STANDARD
BEGIN:DAYLIGHT
TZOFFSETFROM:+0000
TZOFFSETTO:+0100
TZNAME:BST
DTSTART:20250330T010000
END:DAYLIGHT
BEGIN:STANDARD
TZOFFSETFROM:+0100
TZOFFSETTO:+0000
TZNAME:GMT
DTSTART:20251026T010000
END:STANDARD
BEGIN:DAYLIGHT
TZOFFSETFROM:+0000
TZOFFSETTO:+0100
TZNAME:BST
DTSTART:20260329T010000
END:DAYLIGHT
BEGIN:STANDARD
TZOFFSETFROM:+0100
TZOFFSETTO:+0000
TZNAME:GMT
DTSTART:20261025T010000
END:STANDARD
BEGIN:DAYLIGHT
TZOFFSETFROM:+0000
TZOFFSETTO:+0100
TZNAME:BST
DTSTART:20270328T010000
END:DAYLIGHT
BEGIN:STANDARD
TZOFFSETFROM:+0100
TZOFFSETTO:+0000
TZNAME:GMT
DTSTART:20271031T010000
END:STANDARD
END:VTIMEZONE
BEGIN:VEVENT
DTSTART;TZID=Europe/London:20260218T110000
DTEND;TZID=Europe/London:20260218T133000
DTSTAMP:20260419T205613
CREATED:20260106T140050Z
LAST-MODIFIED:20260304T134938Z
UID:31305-1771412400-1771421400@www.lothiancil.org.uk
SUMMARY:Community Connections Edinburgh
DESCRIPTION:Join us for our Edinburgh peer support group focused on Self-directed Support!\nLearn more about your Self-directed Support options and connect with others through shared experiences. \nThe session will be on Wednesday 18 February from 11.00am to 1.30pm at Napier Room\, Norton Park Conference Centre.  \nFor information about accessibility at our sessions\, see our accessibility page here: https://www.lothiancil.org.uk/psg-accessibility/ \nYou can now sign up for our peer support groups on Eventbrite! Scan the QR code or click the link to sign up: https://www.eventbrite.co.uk/e/edinburgh-social-care-self-directed-support-peer-support-group-tickets-1975122484520?aff=oddtdtcreator \nPlease email the peer support and learning team if you have any questions: PSL@lothiancil.org.uk \nFlyer: CEC Q1 PSG Flyer
URL:https://www.lothiancil.org.uk/event/edinburgh-social-care-self-directed-support-peer-support-group-5/
LOCATION:Napier Room\, Norton Park Business Centre\, United Kingdom
ORGANIZER;CN="Peer Support and Learning (Lothian Centre for Inclusive Living)":MAILTO:sds@lothiancil.org.uk
END:VEVENT
BEGIN:VEVENT
DTSTART;TZID=Europe/London:20251217T110000
DTEND;TZID=Europe/London:20251217T133000
DTSTAMP:20260419T205613
CREATED:20251006T144558Z
LAST-MODIFIED:20251104T143115Z
UID:30938-1765969200-1765978200@www.lothiancil.org.uk
SUMMARY:Edinburgh Social Care (Self-directed Support) Peer Support Group
DESCRIPTION:Join us for our Edinburgh peer support group focused on Self-directed Support!\n\n  \nLearn more about your Self-directed Support options and connect with others through shared experiences. \nThe session will be on Wednesday 17th of December from 11am to 1.30pm at Napier Room\, Norton Park Conference Centre.  \nFor information about accessibility at our sessions\, see our accessibility page here: https://www.lothiancil.org.uk/psg-accessibility/ \nYou can now sign up for our peer support groups on Eventbrite! Scan the QR code or click the link to sign up: https://www.eventbrite.co.uk/e/edinburgh-social-care-self-directed-support-peer-support-group-tickets-1769320317699?aff=oddtdtcreator \nPlease email the peer support and learning team if you have any questions: PSL@lothiancil.org.uk
URL:https://www.lothiancil.org.uk/event/edinburgh-social-care-self-directed-support-peer-support-group-4/
LOCATION:Napier Room\, Norton Park Business Centre\, United Kingdom
ORGANIZER;CN="Peer Support and Learning (Lothian Centre for Inclusive Living)":MAILTO:sds@lothiancil.org.uk
END:VEVENT
BEGIN:VEVENT
DTSTART;TZID=Europe/London:20251119T110000
DTEND;TZID=Europe/London:20251119T133000
DTSTAMP:20260419T205613
CREATED:20251006T084423Z
LAST-MODIFIED:20251006T084423Z
UID:30928-1763550000-1763559000@www.lothiancil.org.uk
SUMMARY:Edinburgh Social Care (Self-directed Support) Peer Support Group
DESCRIPTION:Join us for our Edinburgh peer support group focused on Self-directed Support!\n\n  \nLearn more about your Self-directed Support options and connect with others through shared experiences. \nThe session will be on Wednesday 19th of November from 11am to 1.30pm at Napier Room\, Norton Park Conference Centre.  \nFor information about accessibility at our sessions\, see our accessibility page here: https://www.lothiancil.org.uk/psg-accessibility/ \nYou can now sign up for our peer support groups on Eventbrite! Scan the QR code or click the link to sign up: https://www.eventbrite.co.uk/e/edinburgh-social-care-self-directed-support-peer-support-group-tickets-1765951060159?aff=oddtdtcreator \nPlease email the peer support and learning team if you have any questions: PSL@lothiancil.org.uk
URL:https://www.lothiancil.org.uk/event/edinburgh-social-care-self-directed-support-peer-support-group-3/
LOCATION:Napier Room\, Norton Park Business Centre\, United Kingdom
ORGANIZER;CN="Peer Support and Learning (Lothian Centre for Inclusive Living)":MAILTO:sds@lothiancil.org.uk
END:VEVENT
BEGIN:VEVENT
DTSTART;TZID=Europe/London:20251015T110000
DTEND;TZID=Europe/London:20251015T133000
DTSTAMP:20260419T205613
CREATED:20250923T084807Z
LAST-MODIFIED:20250923T085204Z
UID:30854-1760526000-1760535000@www.lothiancil.org.uk
SUMMARY:Edinburgh Social Care (Self-directed Support) Peer Support Group
DESCRIPTION:Join us for our Edinburgh peer support group focused on Self-directed Support!\n\n  \nLearn more about your Self-directed Support options and connect with others through shared experiences. \nThe session will be on Wednesday 15th of October from 11am to 1.30pm at Napier Room\, Norton Park Conference Centre.  \nFor information about accessibility at our sessions\, see our accessibility page here: https://www.lothiancil.org.uk/psg-accessibility/ \nYou can now sign up for our peer support groups on Eventbrite! Scan the QR code or click the link to sign up: https://www.eventbrite.co.uk/e/edinburgh-social-care-self-directed-support-peer-support-group-tickets-1733293420279?aff=oddtdtcreator \nPlease email the peer support and learning team if you have any questions: PSL@lothiancil.org.uk
URL:https://www.lothiancil.org.uk/event/edinburgh-social-care-self-directed-support-peer-support-group-2/
LOCATION:Napier Room\, Norton Park Business Centre\, United Kingdom
ORGANIZER;CN="Peer Support and Learning (Lothian Centre for Inclusive Living)":MAILTO:sds@lothiancil.org.uk
END:VEVENT
BEGIN:VEVENT
DTSTART;TZID=Europe/London:20250917T110000
DTEND;TZID=Europe/London:20250917T133000
DTSTAMP:20260419T205613
CREATED:20250826T091127Z
LAST-MODIFIED:20250826T091127Z
UID:30719-1758106800-1758115800@www.lothiancil.org.uk
SUMMARY:Edinburgh Social Care (Self-directed Support) Peer Support Group
DESCRIPTION:Join us for our Edinburgh peer support group focused on Self-directed Support!\n\n  \nLearn more about your Self-directed Support options and connect with others through shared experiences. \nThe session will be on Wednesday 17th of September from 11am to 1.30pm at Napier Room\, Norton Park Conference Centre.  \nFor information about accessibility at our sessions\, see our accessibility page here: https://www.lothiancil.org.uk/psg-accessibility/ \nYou can now sign up for our peer support groups on Eventbrite! Scan the QR code or click the link to sign up: https://www.eventbrite.co.uk/e/edinburgh-social-care-self-directed-support-peer-support-group-tickets-1567093351399?aff=oddtdtcreator \nPlease email the peer support and learning team if you have any questions: PSL@lothiancil.org.uk
URL:https://www.lothiancil.org.uk/event/edinburgh-social-care-self-directed-support-peer-support-group/
LOCATION:Napier Room\, Norton Park Business Centre\, United Kingdom
ORGANIZER;CN="Peer Support and Learning (Lothian Centre for Inclusive Living)":MAILTO:sds@lothiancil.org.uk
END:VEVENT
BEGIN:VEVENT
DTSTART;TZID=Europe/London:20250618T110000
DTEND;TZID=Europe/London:20250618T133000
DTSTAMP:20260419T205613
CREATED:20250529T142547Z
LAST-MODIFIED:20250529T142629Z
UID:30245-1750244400-1750253400@www.lothiancil.org.uk
SUMMARY:Social Care (Self-Directed Support) Edinburgh Peer Support Group
DESCRIPTION:Join us for our Edinburgh peer support group focused on Self-directed Support! \n\n  \nLearn more about your Self-directed Support options and connect with others through shared experiences. \nThe session will focus on how we can self-advocate with a particular focus on how this can help us to challenge decisions in relation to social work assessment and processes. \nThe session will be on Wednesday 18 June from 11am to 1.30pm at the Napier room\, Norton Park Conference Centre\, 57 Albion Road\, Edinburgh\, EH7 5QY. \nFor information about accessibility at our sessions\, see our accessibility page here: https://www.lothiancil.org.uk/psg-accessibility/ \nYou can now sign up for our peer support groups on Eventbrite! Scan the QR code or click the link to sign up: https://www.eventbrite.co.uk/e/edinburgh-sds-peer-support-group-tickets-1380601268559?aff=oddtdtcreator \nPlease email the peer support and learning team if you have any questions: PSL@lothiancil.org.uk
URL:https://www.lothiancil.org.uk/event/social-care-self-directed-support-edinburgh-peer-support-group/
LOCATION:Napier Room\, Norton Park Business Centre\, United Kingdom
ORGANIZER;CN="Peer Support and Learning (Lothian Centre for Inclusive Living)":MAILTO:sds@lothiancil.org.uk
END:VEVENT
BEGIN:VEVENT
DTSTART;TZID=Europe/London:20250521T110000
DTEND;TZID=Europe/London:20250521T133000
DTSTAMP:20260419T205613
CREATED:20250428T085224Z
LAST-MODIFIED:20250428T085224Z
UID:29855-1747825200-1747834200@www.lothiancil.org.uk
SUMMARY:Edinburgh Peer Support Group
DESCRIPTION:Join us for our Edinburgh peer support group focused on Self-Directed Support!\n\n  \nLearn more about your Self-directed Support options and connect with others through shared experiences. \nThe session will be on Wednesday 21 May from 11am to 1.30pm at the Napier room\, Norton Park Conference Centre\, 57 Albion Road\, Edinburgh\, EH7 5QY. \nFor information about accessibility at our sessions\, see our accessibility page here: https://www.lothiancil.org.uk/psg-accessibility/ \nYou can now sign up for our peer support groups on Eventbrite! Scan the QR code or click the link to sign up: https://www.eventbrite.co.uk/e/edinburgh-peer-support-group-tickets-1307945703809?aff=oddtdtcreator \nPlease email the peer support and learning team if you have any questions: PSL@lothiancil.org.uk \n  \n  \n  \n  \n 
URL:https://www.lothiancil.org.uk/event/edinburgh-peer-support-group-3/
LOCATION:Napier Room\, Norton Park Business Centre\, United Kingdom
ORGANIZER;CN="Peer Support and Learning (Lothian Centre for Inclusive Living)":MAILTO:sds@lothiancil.org.uk
END:VEVENT
BEGIN:VEVENT
DTSTART;TZID=Europe/London:20250416T110000
DTEND;TZID=Europe/London:20250416T133000
DTSTAMP:20260419T205613
CREATED:20250407T140959Z
LAST-MODIFIED:20250407T140959Z
UID:29687-1744801200-1744810200@www.lothiancil.org.uk
SUMMARY:Edinburgh Peer Support Group
DESCRIPTION:Join us for our Edinburgh peer support group focused on Self-Directed Support!\n\n  \nLearn more about your Self-directed Support options and connect with others through shared experiences. \nThe session will be on Wednesday 16 April from 11am to 1.30pm at Norton Park Conference Centre\, 57 Albion Road\, Edinburgh\, EH7 5QY. \nFor information about accessibility at our sessions\, see our accessibility page here: https://www.lothiancil.org.uk/psg-accessibility/ \nYou can now sign up for our peer support groups on Eventbrite! Scan the QR code or click the link to sign up : https://www.eventbrite.co.uk/…/edinburgh-peer-support… \nPlease email the peer support and learning team if you have any questions: PSL@lothiancil.org.uk
URL:https://www.lothiancil.org.uk/event/edinburgh-peer-support-group-2/
LOCATION:Napier Room\, Norton Park Business Centre\, United Kingdom
CATEGORIES:Disabled People,Edinburgh,Parent Carers,Peer Support Group,Self-Directed Support
ORGANIZER;CN="Peer Support and Learning (Lothian Centre for Inclusive Living)":MAILTO:sds@lothiancil.org.uk
END:VEVENT
BEGIN:VEVENT
DTSTART;TZID=Europe/London:20250319T110000
DTEND;TZID=Europe/London:20250319T133000
DTSTAMP:20260419T205613
CREATED:20250212T151717Z
LAST-MODIFIED:20250303T095920Z
UID:29351-1742382000-1742391000@www.lothiancil.org.uk
SUMMARY:Edinburgh SDS Peer Support Group
DESCRIPTION:Event details:\nThe event is on Wednesday 19th March\, and will run from 11am-1:30pm.  We welcome you to join from 10:45am\, so the session can start at 11am.  \nThis group will take place in the Napier Room\, at Norton Park Business and Conference Centre\, 57 Albion Road\, EH7 5QY. \nAccess into the Napier room\, the conference centre\, and disabled bathrooms is all step-free. \nFrom 12:30pm\, a buffet with a selection of sweet and savoury items are provided for lunch. \nFind more information about accessibility at our peer support groups here \nAbout this event\nOur peer support groups provide a space to share experiences and knowledge around Self-Directed Support (SDS). Through meaningful connections with others who understand your experiences\, you will find a space to share\, learn\, and feel listened to. \nThe sessions are welcoming\, relaxed and informal. Bringing people together to discuss the aspects of SDS that matter to them. We encourage mutual understanding and acceptance through the sharing of lived experiences. \nWe aim to increase understanding around Self-Directed Support\, enabling you to make informed decisions about social care. \nWhat is peer support?\nFocussed on collective knowledge and collaboration\, peer support groups provide a space for people to share their experiences\, feelings\, and knowledge with others who can understand. \nPeers are those with similar lived experiences who can understand and offer support. \nPeer support groups create an environment that uses collective knowledge\, lived experience\, and a mutual approach to build awareness and knowledge. The relationships and community built through peer support groups can also offer emotional and practical support. \nWho can attend\nDisabled people\nPeople with long-term conditions\nOlder people\n\nWho live in Edinburgh and are: \n\nInterested in learning more about Self-Directed Support\nAre currently accessing or interested in accessing Self-Directed Support\n\n\n  \nWhy attend\nMeet other people who want to discuss and share knowledge around accessing Self-Directed Support\nFind a community of people with similar lived experiences\n\n\nFind out practical information and resources about SDS\nImprove your understanding and confidence in managing all aspects of SDS\n\n\n  \nHow to register for this event\nEmail PSL@lothiancil.org.uk\nCall 0131 475 2350\,\n\nWe require registration by Wednesday 12th March. After this date\, any specific dietary requirements will not be able to be catered for. \n\n  \nFind out more about Peer Support and Learning
URL:https://www.lothiancil.org.uk/event/edinburgh-sds-peer-support-group/
LOCATION:Napier Room\, Norton Park Business Centre\, United Kingdom
CATEGORIES:Disabled People,Edinburgh,Peer Support Group,People with Long Term Conditions,Self-Directed Support
ORGANIZER;CN="Peer Support and Learning (Lothian Centre for Inclusive Living)":MAILTO:sds@lothiancil.org.uk
END:VEVENT
BEGIN:VEVENT
DTSTART;TZID=Europe/London:20250219T110000
DTEND;TZID=Europe/London:20250219T133000
DTSTAMP:20260419T205613
CREATED:20250122T145731Z
LAST-MODIFIED:20250207T171657Z
UID:29171-1739962800-1739971800@www.lothiancil.org.uk
SUMMARY:Edinburgh Peer Support Group
DESCRIPTION:Join us for our Edinburgh peer support group focused on Self-Directed Support!\n\n  \nLearn more about your Self-directed Support options and connect with others through shared experiences. \nThe session will be on Wednesday 19 February from 11am to 1.30pm at Norton Park Conference Centre\, 57 Albion Road\, Edinburgh\, EH7 5QY. \nPlease email the peer support and learning team to sign up: PSL@lothiancil.org.uk
URL:https://www.lothiancil.org.uk/event/edinburgh-peer-support-group/
LOCATION:Napier Room\, Norton Park Business Centre\, United Kingdom
CATEGORIES:Disabled People,Edinburgh,Older People,Peer Support Group,People with Long Term Conditions,Self-Directed Support,Workshop
ORGANIZER;CN="Peer Support and Learning (Lothian Centre for Inclusive Living)":MAILTO:sds@lothiancil.org.uk
END:VEVENT
END:VCALENDAR