BEGIN:VCALENDAR
VERSION:2.0
PRODID:-//Lothian Centre for Inclusive Living (LCIL) - ECPv6.15.18//NONSGML v1.0//EN
CALSCALE:GREGORIAN
METHOD:PUBLISH
X-ORIGINAL-URL:https://www.lothiancil.org.uk
X-WR-CALDESC:Events for Lothian Centre for Inclusive Living (LCIL)
REFRESH-INTERVAL;VALUE=DURATION:PT1H
X-Robots-Tag:noindex
X-PUBLISHED-TTL:PT1H
BEGIN:VTIMEZONE
TZID:Europe/London
BEGIN:DAYLIGHT
TZOFFSETFROM:+0000
TZOFFSETTO:+0100
TZNAME:BST
DTSTART:20220327T010000
END:DAYLIGHT
BEGIN:STANDARD
TZOFFSETFROM:+0100
TZOFFSETTO:+0000
TZNAME:GMT
DTSTART:20221030T010000
END:STANDARD
BEGIN:DAYLIGHT
TZOFFSETFROM:+0000
TZOFFSETTO:+0100
TZNAME:BST
DTSTART:20230326T010000
END:DAYLIGHT
BEGIN:STANDARD
TZOFFSETFROM:+0100
TZOFFSETTO:+0000
TZNAME:GMT
DTSTART:20231029T010000
END:STANDARD
BEGIN:DAYLIGHT
TZOFFSETFROM:+0000
TZOFFSETTO:+0100
TZNAME:BST
DTSTART:20240331T010000
END:DAYLIGHT
BEGIN:STANDARD
TZOFFSETFROM:+0100
TZOFFSETTO:+0000
TZNAME:GMT
DTSTART:20241027T010000
END:STANDARD
END:VTIMEZONE
BEGIN:VEVENT
DTSTART;TZID=Europe/London:20230202T110000
DTEND;TZID=Europe/London:20230202T133000
DTSTAMP:20260424T115212
CREATED:20230117T163351Z
LAST-MODIFIED:20230118T082658Z
UID:25643-1675335600-1675344600@www.lothiancil.org.uk
SUMMARY:West Lothian Disabled Person Peer Support Group
DESCRIPTION:Event Details\nThis Peer Support Group is for disabled people\, people living with long-term conditions and older people living in West Lothian. \nIt is facilitated by the Peer Support and Learning Team providing a safe space for people to meet\, share experiences\, support each other and talk about what’s important to them. \nAfter the group\, a buffet with a selection of sweet and savoury items is provided for lunch. \nTaxis to and from the group will be organised by LCiL\, if required. \n  \nWhy attend?\n\nMeet other disabled people and people with long term conditions\nExplore ideas and opportunities around support\nFind out practical information and resources\nDevelop skills and build confidence\n\n  \nThe Group:\n\nIs relaxed & informal\nAllows time to talk to each other\nAllows sharing of resources and information\n\n  \nLocation\nThis group will take place in person at Carmondean Centre in West Lothian. If you cannot make the in-person group we do hold online groups via Zoom: please see the events schedule for details. \n  \nRegister to Attend:\nWe have a limited number of spaces available for this event. To register a place please email SDS@lothiancil.org.uk. \nOnce registered\, a member of the Peer Support and Learning Team will be in touch to confirm any dietary and taxi requirements. \nPlease note: We require registration by Thursday 26th January. After this date\, any dietary requirements will not be able to be catered for. \n  \nFind out more about Peer Support and Learning \n  \nWhat past attendees have said:\n‘’Great to listen to how other people achieved something\, the process they used’’ \n‘’It was fun to just sit and chat and share experiences’’ \n‘’A very positive experience. Good to know other people are in the same boat’’ \n‘’I really do benefit from the group. I felt that I came away with tones of useful information that I have already acted on’’
URL:https://www.lothiancil.org.uk/event/west-lothian-disabled-person-peer-support-group-thursday-2nd-february/
LOCATION:North Barn\, Carmondean Community Centre\, Livingston\, Carmondean Community Centre\, Livingston\, EH54 8AX\, United Kingdom
CATEGORIES:Disabled People,Peer Support Group,West Lothian
ORGANIZER;CN="Peer Support and Learning (Lothian Centre for Inclusive Living)":MAILTO:sds@lothiancil.org.uk
END:VEVENT
BEGIN:VEVENT
DTSTART;TZID=Europe/London:20230105T110000
DTEND;TZID=Europe/London:20230105T131500
DTSTAMP:20260424T115212
CREATED:20221222T143704Z
LAST-MODIFIED:20221222T143705Z
UID:25527-1672916400-1672924500@www.lothiancil.org.uk
SUMMARY:West Lothian Disabled Person Peer Support Group
DESCRIPTION:Join us at the first West Lothian Peer Support Group of 2023! \nThe group will be followed by a light buffet lunch made up of savoury and sweet items. \nPlease contact Amanda by email SDS@Lothiancil.org.uk to be added to the list and\, if required\, to organise a taxi for you. \nWe hope to see you there!
URL:https://www.lothiancil.org.uk/event/west-lothian-disabled-person-peer-support-group-12/
LOCATION:North Barn\, Carmondean Community Centre\, Livingston\, Carmondean Community Centre\, Livingston\, EH54 8AX\, United Kingdom
CATEGORIES:Disabled People,Peer Support Group,West Lothian
ORGANIZER;CN="Peer Support and Learning (Lothian Centre for Inclusive Living)":MAILTO:sds@lothiancil.org.uk
END:VEVENT
END:VCALENDAR